BEGIN:VCALENDAR
VERSION:2.0
PRODID:-//Horsforth Golf Club - ECPv6.15.20//NONSGML v1.0//EN
CALSCALE:GREGORIAN
METHOD:PUBLISH
X-WR-CALNAME:Horsforth Golf Club
X-ORIGINAL-URL:https://horsforthgolfclub.co.uk
X-WR-CALDESC:Events for Horsforth Golf Club
REFRESH-INTERVAL;VALUE=DURATION:PT1H
X-Robots-Tag:noindex
X-PUBLISHED-TTL:PT1H
BEGIN:VTIMEZONE
TZID:UTC
BEGIN:STANDARD
TZOFFSETFROM:+0000
TZOFFSETTO:+0000
TZNAME:UTC
DTSTART:20260101T000000
END:STANDARD
END:VTIMEZONE
BEGIN:VEVENT
DTSTART;VALUE=DATE:20270105
DTEND;VALUE=DATE:20270106
DTSTAMP:20260426T000902
CREATED:20260116T112141Z
LAST-MODIFIED:20260116T112141Z
UID:25072-1799107200-1799193599@horsforthgolfclub.co.uk
SUMMARY:Ladies Stableford
DESCRIPTION:
URL:https://horsforthgolfclub.co.uk/events/ladies-stableford-87/
CATEGORIES:Ladies Competition
END:VEVENT
BEGIN:VEVENT
DTSTART;VALUE=DATE:20270112
DTEND;VALUE=DATE:20270113
DTSTAMP:20260426T000902
CREATED:20260116T112141Z
LAST-MODIFIED:20260116T112141Z
UID:25074-1799712000-1799798399@horsforthgolfclub.co.uk
SUMMARY:Ladies Stableford
DESCRIPTION:
URL:https://horsforthgolfclub.co.uk/events/ladies-stableford-88/
CATEGORIES:Ladies Competition
END:VEVENT
BEGIN:VEVENT
DTSTART;VALUE=DATE:20270119
DTEND;VALUE=DATE:20270120
DTSTAMP:20260426T000902
CREATED:20260116T112143Z
LAST-MODIFIED:20260116T112143Z
UID:25076-1800316800-1800403199@horsforthgolfclub.co.uk
SUMMARY:Ladies Stableford
DESCRIPTION:
URL:https://horsforthgolfclub.co.uk/events/ladies-stableford-89/
CATEGORIES:Ladies Competition
END:VEVENT
BEGIN:VEVENT
DTSTART;VALUE=DATE:20270126
DTEND;VALUE=DATE:20270127
DTSTAMP:20260426T000902
CREATED:20260116T112144Z
LAST-MODIFIED:20260116T112144Z
UID:25078-1800921600-1801007999@horsforthgolfclub.co.uk
SUMMARY:Ladies Stableford
DESCRIPTION:
URL:https://horsforthgolfclub.co.uk/events/ladies-stableford-90/
CATEGORIES:Ladies Competition
END:VEVENT
END:VCALENDAR