BEGIN:VCALENDAR
VERSION:2.0
PRODID:-//Horsforth Golf Club - ECPv6.15.20//NONSGML v1.0//EN
CALSCALE:GREGORIAN
METHOD:PUBLISH
X-ORIGINAL-URL:https://horsforthgolfclub.co.uk
X-WR-CALDESC:Events for Horsforth Golf Club
REFRESH-INTERVAL;VALUE=DURATION:PT1H
X-Robots-Tag:noindex
X-PUBLISHED-TTL:PT1H
BEGIN:VTIMEZONE
TZID:UTC
BEGIN:STANDARD
TZOFFSETFROM:+0000
TZOFFSETTO:+0000
TZNAME:UTC
DTSTART:20250101T000000
END:STANDARD
END:VTIMEZONE
BEGIN:VEVENT
DTSTART;VALUE=DATE:20261006
DTEND;VALUE=DATE:20261007
DTSTAMP:20260425T192934
CREATED:20260116T111658Z
LAST-MODIFIED:20260116T111658Z
UID:25037-1791244800-1791331199@horsforthgolfclub.co.uk
SUMMARY:Ladies Club Medal and Winter Scratch
DESCRIPTION:
URL:https://horsforthgolfclub.co.uk/events/ladies-club-medal-and-winter-scratch-2/
CATEGORIES:Ladies Competition
END:VEVENT
BEGIN:VEVENT
DTSTART;VALUE=DATE:20261013
DTEND;VALUE=DATE:20261014
DTSTAMP:20260425T192934
CREATED:20260116T111700Z
LAST-MODIFIED:20260116T111700Z
UID:25039-1791849600-1791935999@horsforthgolfclub.co.uk
SUMMARY:Ladies Team Event Reverse Waltz
DESCRIPTION:
URL:https://horsforthgolfclub.co.uk/events/ladies-team-event-reverse-waltz/
CATEGORIES:Ladies Competition
END:VEVENT
BEGIN:VEVENT
DTSTART;VALUE=DATE:20261020
DTEND;VALUE=DATE:20261021
DTSTAMP:20260425T192934
CREATED:20260116T111700Z
LAST-MODIFIED:20260116T111700Z
UID:25041-1792454400-1792540799@horsforthgolfclub.co.uk
SUMMARY:Ladies NLLGA Leeds Golf Club\nClub Stableford
DESCRIPTION:
URL:https://horsforthgolfclub.co.uk/events/ladies-nllga-leeds-golf-clubclub-stableford/
CATEGORIES:Ladies Competition
END:VEVENT
BEGIN:VEVENT
DTSTART;VALUE=DATE:20261027
DTEND;VALUE=DATE:20261028
DTSTAMP:20260425T192934
CREATED:20260116T111701Z
LAST-MODIFIED:20260116T111701Z
UID:25043-1793059200-1793145599@horsforthgolfclub.co.uk
SUMMARY:Ladies 7 Club Stableford
DESCRIPTION:
URL:https://horsforthgolfclub.co.uk/events/ladies-7-club-stableford-6/
CATEGORIES:Ladies Competition
END:VEVENT
BEGIN:VEVENT
DTSTART;VALUE=DATE:20261030
DTEND;VALUE=DATE:20261031
DTSTAMP:20260425T192934
CREATED:20260116T111813Z
LAST-MODIFIED:20260116T111813Z
UID:25044-1793318400-1793404799@horsforthgolfclub.co.uk
SUMMARY:Ladies Prize Presentation
DESCRIPTION:
URL:https://horsforthgolfclub.co.uk/events/ladies-prize-presentation-3/
CATEGORIES:Ladies Competition
END:VEVENT
END:VCALENDAR