BEGIN:VCALENDAR
VERSION:2.0
PRODID:-//Horsforth Golf Club - ECPv6.15.20//NONSGML v1.0//EN
CALSCALE:GREGORIAN
METHOD:PUBLISH
X-WR-CALNAME:Horsforth Golf Club
X-ORIGINAL-URL:https://horsforthgolfclub.co.uk
X-WR-CALDESC:Events for Horsforth Golf Club
REFRESH-INTERVAL;VALUE=DURATION:PT1H
X-Robots-Tag:noindex
X-PUBLISHED-TTL:PT1H
BEGIN:VTIMEZONE
TZID:UTC
BEGIN:STANDARD
TZOFFSETFROM:+0000
TZOFFSETTO:+0000
TZNAME:UTC
DTSTART:20250101T000000
END:STANDARD
END:VTIMEZONE
BEGIN:VEVENT
DTSTART;VALUE=DATE:20260702
DTEND;VALUE=DATE:20260703
DTSTAMP:20260419T175717
CREATED:20260116T111028Z
LAST-MODIFIED:20260116T111028Z
UID:24959-1782950400-1783036799@horsforthgolfclub.co.uk
SUMMARY:Captains Friendly v Scarborough (H) 1pm
DESCRIPTION:
URL:https://horsforthgolfclub.co.uk/events/captains-friendly-v-scarborough-h-1pm/
CATEGORIES:Club Competition
END:VEVENT
BEGIN:VEVENT
DTSTART;VALUE=DATE:20260704
DTEND;VALUE=DATE:20260705
DTSTAMP:20260419T175717
CREATED:20260116T111028Z
LAST-MODIFIED:20260116T111028Z
UID:24960-1783123200-1783209599@horsforthgolfclub.co.uk
SUMMARY:Medal + Scratch Medal - 36 Holes
DESCRIPTION:
URL:https://horsforthgolfclub.co.uk/events/medal-scratch-medal-36-holes/
CATEGORIES:Club Competition
END:VEVENT
BEGIN:VEVENT
DTSTART;VALUE=DATE:20260706
DTEND;VALUE=DATE:20260707
DTSTAMP:20260419T175717
CREATED:20260116T111028Z
LAST-MODIFIED:20260116T111028Z
UID:24961-1783296000-1783382399@horsforthgolfclub.co.uk
SUMMARY:Scratch v Moortown (H) Nett v Wetherby (A)
DESCRIPTION:
URL:https://horsforthgolfclub.co.uk/events/scratch-v-moortown-h-nett-v-wetherby-a/
CATEGORIES:Club Competition
END:VEVENT
BEGIN:VEVENT
DTSTART;VALUE=DATE:20260707
DTEND;VALUE=DATE:20260708
DTSTAMP:20260419T175717
CREATED:20260116T111029Z
LAST-MODIFIED:20260116T111029Z
UID:24962-1783382400-1783468799@horsforthgolfclub.co.uk
SUMMARY:Ladies Club Medal and Centenary Salver & Junior 1 v Moortown  (H)
DESCRIPTION:
URL:https://horsforthgolfclub.co.uk/events/ladies-club-medal-and-centenary-salver-junior-1-v-moortown-h/
CATEGORIES:Club Competition
END:VEVENT
BEGIN:VEVENT
DTSTART;VALUE=DATE:20260708
DTEND;VALUE=DATE:20260709
DTSTAMP:20260419T175717
CREATED:20260116T111031Z
LAST-MODIFIED:20260116T111031Z
UID:24963-1783468800-1783555199@horsforthgolfclub.co.uk
SUMMARY:Leeds Mens 8-15 League (H) v's Headingley
DESCRIPTION:
URL:https://horsforthgolfclub.co.uk/events/leeds-mens-8-15-league-h-vs-headingley/
CATEGORIES:Club Competition
END:VEVENT
BEGIN:VEVENT
DTSTART;VALUE=DATE:20260709
DTEND;VALUE=DATE:20260710
DTSTAMP:20260419T175717
CREATED:20260116T111031Z
LAST-MODIFIED:20260116T111031Z
UID:24964-1783555200-1783641599@horsforthgolfclub.co.uk
SUMMARY:Rabbits - BHH Tri League v Harrogate & Beadale (A - Beadale) & Seniors v Keighley (A)
DESCRIPTION:
URL:https://horsforthgolfclub.co.uk/events/rabbits-bhh-tri-league-v-harrogate-beadale-a-beadale-seniors-v-keighley-a/
CATEGORIES:Club Competition
END:VEVENT
BEGIN:VEVENT
DTSTART;VALUE=DATE:20260710
DTEND;VALUE=DATE:20260711
DTSTAMP:20260419T175717
CREATED:20260116T111031Z
LAST-MODIFIED:20260116T111031Z
UID:24965-1783641600-1783727999@horsforthgolfclub.co.uk
SUMMARY:NORMAN HUNTER CHARITY GOLF DAY - SHOTGUN START & Ladies B Team v's Oakdale (A)
DESCRIPTION:
URL:https://horsforthgolfclub.co.uk/events/norman-hunter-charity-golf-day-shotgun-start-ladies-b-team-vs-oakdale-a/
CATEGORIES:Club Competition
END:VEVENT
BEGIN:VEVENT
DTSTART;VALUE=DATE:20260711
DTEND;VALUE=DATE:20260712
DTSTAMP:20260419T175717
CREATED:20260116T111031Z
LAST-MODIFIED:20260116T111031Z
UID:24966-1783728000-1783814399@horsforthgolfclub.co.uk
SUMMARY:Medal (Scratch Match Qualifier)
DESCRIPTION:
URL:https://horsforthgolfclub.co.uk/events/medal-scratch-match-qualifier/
CATEGORIES:Club Competition
END:VEVENT
BEGIN:VEVENT
DTSTART;VALUE=DATE:20260712
DTEND;VALUE=DATE:20260713
DTSTAMP:20260419T175717
CREATED:20260116T111031Z
LAST-MODIFIED:20260116T111031Z
UID:24967-1783814400-1783900799@horsforthgolfclub.co.uk
SUMMARY:Ladies v Malton & Norton (H) 1.00pm
DESCRIPTION:
URL:https://horsforthgolfclub.co.uk/events/ladies-v-malton-norton-h-1-00pm/
CATEGORIES:Club Competition
END:VEVENT
BEGIN:VEVENT
DTSTART;VALUE=DATE:20260713
DTEND;VALUE=DATE:20260714
DTSTAMP:20260419T175717
CREATED:20260116T111047Z
LAST-MODIFIED:20260116T111047Z
UID:24968-1783900800-1783987199@horsforthgolfclub.co.uk
SUMMARY:Rabbitts Captains Away Day - Sandburn Hall
DESCRIPTION:
URL:https://horsforthgolfclub.co.uk/events/rabbitts-captains-away-day-sandburn-hall/
CATEGORIES:Club Competition
END:VEVENT
BEGIN:VEVENT
DTSTART;VALUE=DATE:20260714
DTEND;VALUE=DATE:20260715
DTSTAMP:20260419T175717
CREATED:20260116T111047Z
LAST-MODIFIED:20260116T111047Z
UID:24969-1783987200-1784073599@horsforthgolfclub.co.uk
SUMMARY:Ladies Invitation Day & Juniors 2 v Waterton park 2 (H) & Junior 1 v Normanton 2 (A)
DESCRIPTION:
URL:https://horsforthgolfclub.co.uk/events/ladies-invitation-day-juniors-2-v-waterton-park-2-h-junior-1-v-normanton-2-a/
CATEGORIES:Club Competition
END:VEVENT
BEGIN:VEVENT
DTSTART;VALUE=DATE:20260716
DTEND;VALUE=DATE:20260717
DTSTAMP:20260419T175717
CREATED:20260116T111048Z
LAST-MODIFIED:20260116T111048Z
UID:24971-1784160000-1784246399@horsforthgolfclub.co.uk
SUMMARY:Mixed Open Day
DESCRIPTION:
URL:https://horsforthgolfclub.co.uk/events/mixed-open-day-3/
CATEGORIES:Club Competition
END:VEVENT
BEGIN:VEVENT
DTSTART;VALUE=DATE:20260718
DTEND;VALUE=DATE:20260719
DTSTAMP:20260419T175717
CREATED:20260116T111048Z
LAST-MODIFIED:20260116T111048Z
UID:24972-1784332800-1784419199@horsforthgolfclub.co.uk
SUMMARY:Captains Day -  Sean Ryan
DESCRIPTION:
URL:https://horsforthgolfclub.co.uk/events/captains-day-sean-ryan/
CATEGORIES:Club Competition
END:VEVENT
BEGIN:VEVENT
DTSTART;VALUE=DATE:20260720
DTEND;VALUE=DATE:20260721
DTSTAMP:20260419T175717
CREATED:20260116T111225Z
LAST-MODIFIED:20260116T111225Z
UID:24973-1784505600-1784591999@horsforthgolfclub.co.uk
SUMMARY:Scratch v Darrington (A) & Nett v Leeds (H)
DESCRIPTION:
URL:https://horsforthgolfclub.co.uk/events/scratch-v-darrington-a-nett-v-leeds-h/
CATEGORIES:Club Competition
END:VEVENT
BEGIN:VEVENT
DTSTART;VALUE=DATE:20260721
DTEND;VALUE=DATE:20260722
DTSTAMP:20260419T175717
CREATED:20260116T111225Z
LAST-MODIFIED:20260116T111225Z
UID:24974-1784592000-1784678399@horsforthgolfclub.co.uk
SUMMARY:Ladies Club and Ping 4BBB Qualifier & Junior 1 v Leeds Golf Centre 2 (A) &  Junior 2 v Pontefract (H)
DESCRIPTION:
URL:https://horsforthgolfclub.co.uk/events/ladies-club-and-ping-4bbb-qualifier-junior-1-v-leeds-golf-centre-2-a-junior-2-v-pontefract-h/
CATEGORIES:Club Competition
END:VEVENT
BEGIN:VEVENT
DTSTART;VALUE=DATE:20260722
DTEND;VALUE=DATE:20260723
DTSTAMP:20260419T175717
CREATED:20260116T111225Z
LAST-MODIFIED:20260116T111225Z
UID:24975-1784678400-1784764799@horsforthgolfclub.co.uk
SUMMARY:Leeds Mens 8-15 League (A) v's Waterton Park & 3 Team Junior Event
DESCRIPTION:
URL:https://horsforthgolfclub.co.uk/events/leeds-mens-8-15-league-a-vs-waterton-park-3-team-junior-event/
CATEGORIES:Club Competition
END:VEVENT
BEGIN:VEVENT
DTSTART;VALUE=DATE:20260723
DTEND;VALUE=DATE:20260724
DTSTAMP:20260419T175717
CREATED:20260116T111226Z
LAST-MODIFIED:20260116T111226Z
UID:24976-1784764800-1784851199@horsforthgolfclub.co.uk
SUMMARY:Ladies A Team v's Silkstone (H) & Seniors v Shipley NC (H)
DESCRIPTION:
URL:https://horsforthgolfclub.co.uk/events/ladies-a-team-vs-silkstone-h-seniors-v-shipley-nc-h/
CATEGORIES:Club Competition
END:VEVENT
BEGIN:VEVENT
DTSTART;VALUE=DATE:20260725
DTEND;VALUE=DATE:20260726
DTSTAMP:20260419T175717
CREATED:20260116T111226Z
LAST-MODIFIED:20260116T111226Z
UID:24977-1784937600-1785023999@horsforthgolfclub.co.uk
SUMMARY:D & S Trophy Round 1
DESCRIPTION:
URL:https://horsforthgolfclub.co.uk/events/d-s-trophy-round-1-2/
CATEGORIES:Club Competition
END:VEVENT
BEGIN:VEVENT
DTSTART;VALUE=DATE:20260726
DTEND;VALUE=DATE:20260727
DTSTAMP:20260419T175717
CREATED:20260116T111240Z
LAST-MODIFIED:20260116T111240Z
UID:24978-1785024000-1785110399@horsforthgolfclub.co.uk
SUMMARY:Invitation Day
DESCRIPTION:
URL:https://horsforthgolfclub.co.uk/events/invitation-day-4/
CATEGORIES:Club Competition
END:VEVENT
BEGIN:VEVENT
DTSTART;VALUE=DATE:20260727
DTEND;VALUE=DATE:20260728
DTSTAMP:20260419T175717
CREATED:20260116T111240Z
LAST-MODIFIED:20260116T111240Z
UID:24979-1785110400-1785196799@horsforthgolfclub.co.uk
SUMMARY:Ladies NLLPCA Mixed Moortown & Nett v Sandmoor (A)
DESCRIPTION:
URL:https://horsforthgolfclub.co.uk/events/ladies-nllpca-mixed-moortown-nett-v-sandmoor-a/
CATEGORIES:Club Competition
END:VEVENT
BEGIN:VEVENT
DTSTART;VALUE=DATE:20260728
DTEND;VALUE=DATE:20260729
DTSTAMP:20260419T175717
CREATED:20260116T111240Z
LAST-MODIFIED:20260116T111240Z
UID:24980-1785196800-1785283199@horsforthgolfclub.co.uk
SUMMARY:Ladies Connie Leech Eclectic Round 1 & Low Laithes v Junior 2 (A)
DESCRIPTION:
URL:https://horsforthgolfclub.co.uk/events/ladies-connie-leech-eclectic-round-1-low-laithes-v-junior-2-a/
CATEGORIES:Club Competition
END:VEVENT
BEGIN:VEVENT
DTSTART;VALUE=DATE:20260730
DTEND;VALUE=DATE:20260731
DTSTAMP:20260419T175717
CREATED:20260116T111240Z
LAST-MODIFIED:20260116T111240Z
UID:24981-1785369600-1785455999@horsforthgolfclub.co.uk
SUMMARY:Ladies Connie Leech Eclectic Round 2 & Leeds Mens 8-15 League (A) v's Headingley
DESCRIPTION:
URL:https://horsforthgolfclub.co.uk/events/ladies-connie-leech-eclectic-round-2-leeds-mens-8-15-league-a-vs-headingley/
CATEGORIES:Club Competition
END:VEVENT
BEGIN:VEVENT
DTSTART;VALUE=DATE:20260801
DTEND;VALUE=DATE:20260802
DTSTAMP:20260419T175717
CREATED:20260116T111302Z
LAST-MODIFIED:20260116T111442Z
UID:24984-1785542400-1785628799@horsforthgolfclub.co.uk
SUMMARY:D & S Trophy Round 2
DESCRIPTION:
URL:https://horsforthgolfclub.co.uk/events/d-s-trophy-round-2-2/
CATEGORIES:Club Competition
END:VEVENT
BEGIN:VEVENT
DTSTART;VALUE=DATE:20260802
DTEND;VALUE=DATE:20260803
DTSTAMP:20260419T175717
CREATED:20260116T111303Z
LAST-MODIFIED:20260116T111442Z
UID:24985-1785628800-1785715199@horsforthgolfclub.co.uk
SUMMARY:Filey Exchange Trip
DESCRIPTION:
URL:https://horsforthgolfclub.co.uk/events/filey-exchange-trip-4/
CATEGORIES:Club Competition
END:VEVENT
BEGIN:VEVENT
DTSTART;VALUE=DATE:20260803
DTEND;VALUE=DATE:20260804
DTSTAMP:20260419T175717
CREATED:20260116T111303Z
LAST-MODIFIED:20260116T111442Z
UID:24986-1785715200-1785801599@horsforthgolfclub.co.uk
SUMMARY:Scratch v Cookridge (H)
DESCRIPTION:
URL:https://horsforthgolfclub.co.uk/events/scratch-v-cookridge-h/
CATEGORIES:Club Competition
END:VEVENT
BEGIN:VEVENT
DTSTART;VALUE=DATE:20260804
DTEND;VALUE=DATE:20260805
DTSTAMP:20260419T175717
CREATED:20260116T111303Z
LAST-MODIFIED:20260116T111442Z
UID:24987-1785801600-1785887999@horsforthgolfclub.co.uk
SUMMARY:Rabbits Tri league v Headingley & Bradford (A -Bradford) & Lady Presidents Day CAROL OUTHWAITE & Junior 1 v Sand Moor 1 (H) Wakefield v Junior 2 (A)
DESCRIPTION:
URL:https://horsforthgolfclub.co.uk/events/rabbits-tri-league-v-headingley-bradford-a-bradford-lady-presidents-day-carol-outhwaite-junior-1-v-sand-moor-1-h-wakefield-v-junior-2-a/
CATEGORIES:Club Competition
END:VEVENT
BEGIN:VEVENT
DTSTART;VALUE=DATE:20260808
DTEND;VALUE=DATE:20260809
DTSTAMP:20260419T175717
CREATED:20260116T111305Z
LAST-MODIFIED:20260116T111305Z
UID:24990-1786147200-1786233599@horsforthgolfclub.co.uk
SUMMARY:Medal
DESCRIPTION:
URL:https://horsforthgolfclub.co.uk/events/medal-48/
CATEGORIES:Club Competition
END:VEVENT
BEGIN:VEVENT
DTSTART;VALUE=DATE:20260810
DTEND;VALUE=DATE:20260811
DTSTAMP:20260419T175717
CREATED:20260116T111306Z
LAST-MODIFIED:20260116T111306Z
UID:24992-1786320000-1786406399@horsforthgolfclub.co.uk
SUMMARY:Scratch v Sandmoor (A) & Lady Captains away Trip Oulton Hall
DESCRIPTION:
URL:https://horsforthgolfclub.co.uk/events/scratch-v-sandmoor-a-lady-captains-away-trip-oulton-hall/
CATEGORIES:Club Competition
END:VEVENT
BEGIN:VEVENT
DTSTART;VALUE=DATE:20260811
DTEND;VALUE=DATE:20260812
DTSTAMP:20260419T175717
CREATED:20260116T111306Z
LAST-MODIFIED:20260116T111306Z
UID:24993-1786406400-1786492799@horsforthgolfclub.co.uk
SUMMARY:Rabbits v Scarcroft (H) 2pm & Ladies Stableford
DESCRIPTION:
URL:https://horsforthgolfclub.co.uk/events/rabbits-v-scarcroft-h-2pm-ladies-stableford/
CATEGORIES:Club Competition
END:VEVENT
BEGIN:VEVENT
DTSTART;VALUE=DATE:20260812
DTEND;VALUE=DATE:20260813
DTSTAMP:20260419T175717
CREATED:20260116T111321Z
LAST-MODIFIED:20260116T111321Z
UID:24994-1786492800-1786579199@horsforthgolfclub.co.uk
SUMMARY:Rabbitts Centenary Trophy (mid week comp)
DESCRIPTION:
URL:https://horsforthgolfclub.co.uk/events/rabbitts-centenary-trophy-mid-week-comp/
CATEGORIES:Club Competition
END:VEVENT
END:VCALENDAR