BEGIN:VCALENDAR
VERSION:2.0
PRODID:-//Horsforth Golf Club - ECPv6.15.20//NONSGML v1.0//EN
CALSCALE:GREGORIAN
METHOD:PUBLISH
X-WR-CALNAME:Horsforth Golf Club
X-ORIGINAL-URL:https://horsforthgolfclub.co.uk
X-WR-CALDESC:Events for Horsforth Golf Club
REFRESH-INTERVAL;VALUE=DURATION:PT1H
X-Robots-Tag:noindex
X-PUBLISHED-TTL:PT1H
BEGIN:VTIMEZONE
TZID:UTC
BEGIN:STANDARD
TZOFFSETFROM:+0000
TZOFFSETTO:+0000
TZNAME:UTC
DTSTART:20250101T000000
END:STANDARD
END:VTIMEZONE
BEGIN:VEVENT
DTSTART;VALUE=DATE:20260426
DTEND;VALUE=DATE:20260427
DTSTAMP:20260426T014711
CREATED:20260114T160845Z
LAST-MODIFIED:20260114T160845Z
UID:24883-1777161600-1777247999@horsforthgolfclub.co.uk
SUMMARY:Mixed Junior Texas Scramble
DESCRIPTION:
URL:https://horsforthgolfclub.co.uk/events/mixed-junior-texas-scramble/
CATEGORIES:Club Competition
END:VEVENT
END:VCALENDAR