BEGIN:VCALENDAR
VERSION:2.0
PRODID:-//Horsforth Golf Club - ECPv6.15.20//NONSGML v1.0//EN
CALSCALE:GREGORIAN
METHOD:PUBLISH
X-WR-CALNAME:Horsforth Golf Club
X-ORIGINAL-URL:https://horsforthgolfclub.co.uk
X-WR-CALDESC:Events for Horsforth Golf Club
REFRESH-INTERVAL;VALUE=DURATION:PT1H
X-Robots-Tag:noindex
X-PUBLISHED-TTL:PT1H
BEGIN:VTIMEZONE
TZID:UTC
BEGIN:STANDARD
TZOFFSETFROM:+0000
TZOFFSETTO:+0000
TZNAME:UTC
DTSTART:20250101T000000
END:STANDARD
END:VTIMEZONE
BEGIN:VEVENT
DTSTART;VALUE=DATE:20260423
DTEND;VALUE=DATE:20260424
DTSTAMP:20260423T173900
CREATED:20260114T160845Z
LAST-MODIFIED:20260114T160845Z
UID:24881-1776902400-1776988799@horsforthgolfclub.co.uk
SUMMARY:Captains Friendly (A) Scarborough NC 1pm\nLeeds Mens 8-15 League (A) v's Sand Moor
DESCRIPTION:
URL:https://horsforthgolfclub.co.uk/events/captains-friendly-a-scarborough-nc-1pmleeds-mens-8-15-league-a-vs-sand-moor/
CATEGORIES:Club Competition
END:VEVENT
END:VCALENDAR