BEGIN:VCALENDAR
VERSION:2.0
PRODID:-//Horsforth Golf Club - ECPv6.15.20//NONSGML v1.0//EN
CALSCALE:GREGORIAN
METHOD:PUBLISH
X-WR-CALNAME:Horsforth Golf Club
X-ORIGINAL-URL:https://horsforthgolfclub.co.uk
X-WR-CALDESC:Events for Horsforth Golf Club
REFRESH-INTERVAL;VALUE=DURATION:PT1H
X-Robots-Tag:noindex
X-PUBLISHED-TTL:PT1H
BEGIN:VTIMEZONE
TZID:UTC
BEGIN:STANDARD
TZOFFSETFROM:+0000
TZOFFSETTO:+0000
TZNAME:UTC
DTSTART:20250101T000000
END:STANDARD
END:VTIMEZONE
BEGIN:VEVENT
DTSTART;VALUE=DATE:20260228
DTEND;VALUE=DATE:20260301
DTSTAMP:20260424T120548
CREATED:20260203T093733Z
LAST-MODIFIED:20260203T093733Z
UID:25283-1772236800-1772323199@horsforthgolfclub.co.uk
SUMMARY:Captain & Presidents Welcome Night
DESCRIPTION:
URL:https://horsforthgolfclub.co.uk/events/captain-presidents-welcome-night/
END:VEVENT
BEGIN:VEVENT
DTSTART;VALUE=DATE:20260228
DTEND;VALUE=DATE:20260301
DTSTAMP:20260424T120548
CREATED:20250108T170908Z
LAST-MODIFIED:20250108T170908Z
UID:22448-1772236800-1772323199@horsforthgolfclub.co.uk
SUMMARY:Stableford
DESCRIPTION:
URL:https://horsforthgolfclub.co.uk/events/stableford-41/
CATEGORIES:Club Competition
END:VEVENT
END:VCALENDAR