BEGIN:VCALENDAR
VERSION:2.0
PRODID:-//Horsforth Golf Club - ECPv6.15.20//NONSGML v1.0//EN
CALSCALE:GREGORIAN
METHOD:PUBLISH
X-WR-CALNAME:Horsforth Golf Club
X-ORIGINAL-URL:https://horsforthgolfclub.co.uk
X-WR-CALDESC:Events for Horsforth Golf Club
REFRESH-INTERVAL;VALUE=DURATION:PT1H
X-Robots-Tag:noindex
X-PUBLISHED-TTL:PT1H
BEGIN:VTIMEZONE
TZID:UTC
BEGIN:STANDARD
TZOFFSETFROM:+0000
TZOFFSETTO:+0000
TZNAME:UTC
DTSTART:20250101T000000
END:STANDARD
END:VTIMEZONE
BEGIN:VEVENT
DTSTART;TZID=UTC:20260215T123000
DTEND;TZID=UTC:20260215T123000
DTSTAMP:20260424T133005
CREATED:20250108T165421Z
LAST-MODIFIED:20260203T095559Z
UID:22424-1771158600-1771158600@horsforthgolfclub.co.uk
SUMMARY:Men’s Captains’ Drive-In
DESCRIPTION:Includes Junior & Rabbits
URL:https://horsforthgolfclub.co.uk/events/mens-junior-captains-drive-in/
END:VEVENT
END:VCALENDAR